BEGIN:VCALENDAR
VERSION:2.0
PRODID:-//Quayle&#039;s Brewery - ECPv6.15.20//NONSGML v1.0//EN
CALSCALE:GREGORIAN
METHOD:PUBLISH
X-WR-CALNAME:Quayle&#039;s Brewery
X-ORIGINAL-URL:https://quaylesbrewery.ca
X-WR-CALDESC:Events for Quayle&#039;s Brewery
REFRESH-INTERVAL;VALUE=DURATION:PT1H
X-Robots-Tag:noindex
X-PUBLISHED-TTL:PT1H
BEGIN:VTIMEZONE
TZID:America/Toronto
BEGIN:DAYLIGHT
TZOFFSETFROM:-0500
TZOFFSETTO:-0400
TZNAME:EDT
DTSTART:20240310T070000
END:DAYLIGHT
BEGIN:STANDARD
TZOFFSETFROM:-0400
TZOFFSETTO:-0500
TZNAME:EST
DTSTART:20241103T060000
END:STANDARD
BEGIN:DAYLIGHT
TZOFFSETFROM:-0500
TZOFFSETTO:-0400
TZNAME:EDT
DTSTART:20250309T070000
END:DAYLIGHT
BEGIN:STANDARD
TZOFFSETFROM:-0400
TZOFFSETTO:-0500
TZNAME:EST
DTSTART:20251102T060000
END:STANDARD
BEGIN:DAYLIGHT
TZOFFSETFROM:-0500
TZOFFSETTO:-0400
TZNAME:EDT
DTSTART:20260308T070000
END:DAYLIGHT
BEGIN:STANDARD
TZOFFSETFROM:-0400
TZOFFSETTO:-0500
TZNAME:EST
DTSTART:20261101T060000
END:STANDARD
END:VTIMEZONE
BEGIN:VEVENT
DTSTART;TZID=America/Toronto:20250619T170000
DTEND;TZID=America/Toronto:20250622T190000
DTSTAMP:20260420T194447
CREATED:20250616T061959Z
LAST-MODIFIED:20250616T061959Z
UID:10000200-1750352400-1750618800@quaylesbrewery.ca
SUMMARY:Spring Music Events
DESCRIPTION:Thu June 19\n5-8\nErin Blackstock\n\n\nFri June 20\n5-8\nRon Whitman\n\n\nSat June 21\n5-8\nB. Knox\n\n\nSun June 22\n4-7\nGen Cyr
URL:https://quaylesbrewery.ca/twzfxferj1zbaknspai3/spring-music-events-11/
LOCATION:Quayle’s Brewery\, 4567 12 Line N\, Coldwater\, Ontario\, L0K 1E0\, Canada
CATEGORIES:@Quayle's,Music
ATTACH;FMTTYPE=image/jpeg:https://quaylesbrewery.ca/wp-content/uploads/2025/06/June_19-22_Whats_On_this_Week_1200x675.jpg
ORGANIZER;CN="Quayle's Brewery":MAILTO:info@quaylesbrewery.com
END:VEVENT
BEGIN:VEVENT
DTSTART;TZID=America/Toronto:20250626T170000
DTEND;TZID=America/Toronto:20250630T200000
DTSTAMP:20260420T194447
CREATED:20250616T062123Z
LAST-MODIFIED:20250621T225649Z
UID:10000201-1750957200-1751313600@quaylesbrewery.ca
SUMMARY:Spring Music Events
DESCRIPTION:Thu June 26\n5-8\nCam Galloway*\n\n\nFri June 27\n5-8\nAndrew Walker\n\n\nSat June 28\n1-4\nJakob Pearce\n\n\nSat June 28\n5-8\nBurke Erwin\n\n\nSun June 29\n1-4\nRebekah Hawker\n\n\nSun June 29\n5-8\nMichael Schultz\n\n\nMon June 30\n1-4\nJohnny Toonice\n\n\nMon June 30\n5-8\nDarcy Windover\n\n\nTues July 1\n4-7\nUpBeat Groove
URL:https://quaylesbrewery.ca/twzfxferj1zbaknspai3/spring-music-events-12/
LOCATION:Quayle’s Brewery\, 4567 12 Line N\, Coldwater\, Ontario\, L0K 1E0\, Canada
CATEGORIES:@Quayle's,Music
ORGANIZER;CN="Quayle's Brewery":MAILTO:info@quaylesbrewery.com
END:VEVENT
BEGIN:VEVENT
DTSTART;TZID=America/Toronto:20250627T170000
DTEND;TZID=America/Toronto:20250627T200000
DTSTAMP:20260420T194447
CREATED:20250517T171335Z
LAST-MODIFIED:20250616T062246Z
UID:10000188-1751043600-1751054400@quaylesbrewery.ca
SUMMARY:Ronnie Douglas Band under the Quayle's Big Tent
DESCRIPTION:Doors open at 5pm for food and drinks – concert at 7:30 pm \nTickets sold through  www.orilliayouthcentre.ca
URL:https://quaylesbrewery.ca/twzfxferj1zbaknspai3/ronnie-douglas-band-under-the-quayles-big-tent/
LOCATION:Quayle’s Brewery\, 4567 12 Line N\, Coldwater\, Ontario\, L0K 1E0\, Canada
CATEGORIES:@Quayle's,Music
ATTACH;FMTTYPE=image/jpeg:https://quaylesbrewery.ca/wp-content/uploads/2025/06/June27_Ronnie_Douglas.jpg
ORGANIZER;CN="Quayle's Brewery":MAILTO:info@quaylesbrewery.com
END:VEVENT
BEGIN:VEVENT
DTSTART;TZID=America/Toronto:20250701T160000
DTEND;TZID=America/Toronto:20250701T190000
DTSTAMP:20260420T194447
CREATED:20250703T041154Z
LAST-MODIFIED:20250703T041346Z
UID:10000206-1751385600-1751396400@quaylesbrewery.ca
SUMMARY:Summer Music Events: Upbeat Groove
DESCRIPTION:Tue Jul 1\n4-7\nUpbeat Groove
URL:https://quaylesbrewery.ca/twzfxferj1zbaknspai3/summer-music-events-upbeat-groove/
LOCATION:Quayle’s Brewery\, 4567 12 Line N\, Coldwater\, Ontario\, L0K 1E0\, Canada
CATEGORIES:@Quayle's,Music
ATTACH;FMTTYPE=image/jpeg:https://quaylesbrewery.ca/wp-content/uploads/2025/07/July-1-UpBeat-Groove-4-to-7-pm.jpg
ORGANIZER;CN="Quayle's Brewery":MAILTO:info@quaylesbrewery.com
END:VEVENT
BEGIN:VEVENT
DTSTART;TZID=America/Toronto:20250703T170000
DTEND;TZID=America/Toronto:20250703T200000
DTSTAMP:20260420T194447
CREATED:20250703T041503Z
LAST-MODIFIED:20250703T041503Z
UID:10000208-1751562000-1751572800@quaylesbrewery.ca
SUMMARY:Summer Music Events: Mark Gunn
DESCRIPTION:Thu Jul 3\n5-8\nMark Gunn
URL:https://quaylesbrewery.ca/twzfxferj1zbaknspai3/summer-music-events-mark-gunn/
LOCATION:Quayle’s Brewery\, 4567 12 Line N\, Coldwater\, Ontario\, L0K 1E0\, Canada
CATEGORIES:@Quayle's,Music
ATTACH;FMTTYPE=image/jpeg:https://quaylesbrewery.ca/wp-content/uploads/2025/07/July-3-Mark-Gunn-5-to-8-pm.jpg
ORGANIZER;CN="Quayle's Brewery":MAILTO:info@quaylesbrewery.com
END:VEVENT
BEGIN:VEVENT
DTSTART;TZID=America/Toronto:20250704T170000
DTEND;TZID=America/Toronto:20250704T200000
DTSTAMP:20260420T194447
CREATED:20250703T041627Z
LAST-MODIFIED:20250703T041627Z
UID:10000209-1751648400-1751659200@quaylesbrewery.ca
SUMMARY:Summer Music Events: Rogen Mei
DESCRIPTION:Fri Jul 4\n5-8\nRogen Mei
URL:https://quaylesbrewery.ca/twzfxferj1zbaknspai3/summer-music-events-rogen-mei/
LOCATION:Quayle’s Brewery\, 4567 12 Line N\, Coldwater\, Ontario\, L0K 1E0\, Canada
CATEGORIES:@Quayle's,Music
ATTACH;FMTTYPE=image/jpeg:https://quaylesbrewery.ca/wp-content/uploads/2025/07/July-4-Rogan-Mei-5-to-8-pm.jpg
ORGANIZER;CN="Quayle's Brewery":MAILTO:info@quaylesbrewery.com
END:VEVENT
BEGIN:VEVENT
DTSTART;TZID=America/Toronto:20250705T170000
DTEND;TZID=America/Toronto:20250705T200000
DTSTAMP:20260420T194447
CREATED:20250703T041859Z
LAST-MODIFIED:20250703T041859Z
UID:10000210-1751734800-1751745600@quaylesbrewery.ca
SUMMARY:Summer Music Events: Shawn Charlebois
DESCRIPTION:Sat Jul 5\n5-8\nShawn Charlebois
URL:https://quaylesbrewery.ca/twzfxferj1zbaknspai3/summer-music-events-shawn-charlebois/
LOCATION:Quayle’s Brewery\, 4567 12 Line N\, Coldwater\, Ontario\, L0K 1E0\, Canada
CATEGORIES:@Quayle's,Music
ATTACH;FMTTYPE=image/jpeg:https://quaylesbrewery.ca/wp-content/uploads/2025/07/July-5-Shawn-Charlebois-5-to-8-pm.jpg
ORGANIZER;CN="Quayle's Brewery":MAILTO:info@quaylesbrewery.com
END:VEVENT
BEGIN:VEVENT
DTSTART;TZID=America/Toronto:20250706T160000
DTEND;TZID=America/Toronto:20250706T190000
DTSTAMP:20260420T194447
CREATED:20250703T042004Z
LAST-MODIFIED:20250703T042004Z
UID:10000211-1751817600-1751828400@quaylesbrewery.ca
SUMMARY:Summer Music Events: Sydney Riley
DESCRIPTION:Sun Jul 6\n4-7\nSydney Riley
URL:https://quaylesbrewery.ca/twzfxferj1zbaknspai3/summer-music-events-sydney-riley/
LOCATION:Quayle’s Brewery\, 4567 12 Line N\, Coldwater\, Ontario\, L0K 1E0\, Canada
CATEGORIES:@Quayle's,Music
ATTACH;FMTTYPE=image/jpeg:https://quaylesbrewery.ca/wp-content/uploads/2025/07/July-6-Sydney-Riley-4-7-pm.jpg
ORGANIZER;CN="Quayle's Brewery":MAILTO:info@quaylesbrewery.com
END:VEVENT
BEGIN:VEVENT
DTSTART;TZID=America/Toronto:20250711T170000
DTEND;TZID=America/Toronto:20250711T200000
DTSTAMP:20260420T194447
CREATED:20250703T042044Z
LAST-MODIFIED:20250703T042044Z
UID:10000212-1752253200-1752264000@quaylesbrewery.ca
SUMMARY:Summer Music Events: David Shaw
DESCRIPTION:Fri July 11\n5-8\nDavid Shaw
URL:https://quaylesbrewery.ca/twzfxferj1zbaknspai3/summer-music-events-david-shaw/
LOCATION:Quayle’s Brewery\, 4567 12 Line N\, Coldwater\, Ontario\, L0K 1E0\, Canada
CATEGORIES:@Quayle's,Music
ATTACH;FMTTYPE=image/jpeg:https://quaylesbrewery.ca/wp-content/uploads/2025/07/July-11-David-Shaw-5-8-pm.jpg
ORGANIZER;CN="Quayle's Brewery":MAILTO:info@quaylesbrewery.com
END:VEVENT
BEGIN:VEVENT
DTSTART;TZID=America/Toronto:20250712T170000
DTEND;TZID=America/Toronto:20250712T200000
DTSTAMP:20260420T194447
CREATED:20250703T042152Z
LAST-MODIFIED:20250703T042152Z
UID:10000213-1752339600-1752350400@quaylesbrewery.ca
SUMMARY:Summer Music Events: Jakob Pearce
DESCRIPTION:Sat July 12\n5-8\nJakob Pearce
URL:https://quaylesbrewery.ca/twzfxferj1zbaknspai3/summer-music-events-jakob-pearce/
LOCATION:Quayle’s Brewery\, 4567 12 Line N\, Coldwater\, Ontario\, L0K 1E0\, Canada
CATEGORIES:@Quayle's,Music
ATTACH;FMTTYPE=image/jpeg:https://quaylesbrewery.ca/wp-content/uploads/2025/07/July-12-Jakob-Pearce-5-8-pm.jpg
ORGANIZER;CN="Quayle's Brewery":MAILTO:info@quaylesbrewery.com
END:VEVENT
BEGIN:VEVENT
DTSTART;TZID=America/Toronto:20250713T140000
DTEND;TZID=America/Toronto:20250713T170000
DTSTAMP:20260420T194447
CREATED:20250703T042309Z
LAST-MODIFIED:20250703T042309Z
UID:10000214-1752415200-1752426000@quaylesbrewery.ca
SUMMARY:Summer Music Events: Chris Lemay
DESCRIPTION:Sun July 13\n2-5\nChris Lemay
URL:https://quaylesbrewery.ca/twzfxferj1zbaknspai3/summer-music-events-chris-lemay/
LOCATION:Quayle’s Brewery\, 4567 12 Line N\, Coldwater\, Ontario\, L0K 1E0\, Canada
CATEGORIES:@Quayle's,Music
ATTACH;FMTTYPE=image/jpeg:https://quaylesbrewery.ca/wp-content/uploads/2025/07/July-13-Chris-LeMay-5-8-pm.jpg
ORGANIZER;CN="Quayle's Brewery":MAILTO:info@quaylesbrewery.com
END:VEVENT
BEGIN:VEVENT
DTSTART;TZID=America/Toronto:20250713T180000
DTEND;TZID=America/Toronto:20250713T210000
DTSTAMP:20260420T194447
CREATED:20250703T042404Z
LAST-MODIFIED:20250703T042404Z
UID:10000215-1752429600-1752440400@quaylesbrewery.ca
SUMMARY:Summer Music Events: Paul Morgan
DESCRIPTION:Sun July 13\n6-9\nPaul Morgan
URL:https://quaylesbrewery.ca/twzfxferj1zbaknspai3/summer-music-events-paul-morgan/
LOCATION:Quayle’s Brewery\, 4567 12 Line N\, Coldwater\, Ontario\, L0K 1E0\, Canada
CATEGORIES:@Quayle's,Music
ATTACH;FMTTYPE=image/jpeg:https://quaylesbrewery.ca/wp-content/uploads/2025/07/July-13-Paul-Morgan-6-9-pm.jpg
ORGANIZER;CN="Quayle's Brewery":MAILTO:info@quaylesbrewery.com
END:VEVENT
BEGIN:VEVENT
DTSTART;TZID=America/Toronto:20250717T170000
DTEND;TZID=America/Toronto:20250717T200000
DTSTAMP:20260420T194448
CREATED:20250715T042528Z
LAST-MODIFIED:20250715T042657Z
UID:10000217-1752771600-1752782400@quaylesbrewery.ca
SUMMARY:Summer Music Events: Jamie Drake
DESCRIPTION:Thu July 17\n5-8\nJamie Drake
URL:https://quaylesbrewery.ca/twzfxferj1zbaknspai3/summer-music-events-jamie-drake/
LOCATION:Quayle’s Brewery\, 4567 12 Line N\, Coldwater\, Ontario\, L0K 1E0\, Canada
CATEGORIES:@Quayle's,Music
ATTACH;FMTTYPE=image/jpeg:https://quaylesbrewery.ca/wp-content/uploads/2025/07/July_17-Jamie_Drake_5_to_8_pm.jpg
ORGANIZER;CN="Quayle's Brewery":MAILTO:info@quaylesbrewery.com
END:VEVENT
BEGIN:VEVENT
DTSTART;TZID=America/Toronto:20250718T170000
DTEND;TZID=America/Toronto:20250718T200000
DTSTAMP:20260420T194448
CREATED:20250715T042816Z
LAST-MODIFIED:20250715T042816Z
UID:10000218-1752858000-1752868800@quaylesbrewery.ca
SUMMARY:Summer Music Events: My Missing Piece
DESCRIPTION:Fri July 18\n5-8\nMy Missing Piece\n\n\n\n 
URL:https://quaylesbrewery.ca/twzfxferj1zbaknspai3/summer-music-events-my-missing-piece/
LOCATION:Quayle’s Brewery\, 4567 12 Line N\, Coldwater\, Ontario\, L0K 1E0\, Canada
CATEGORIES:@Quayle's,Music
ATTACH;FMTTYPE=image/jpeg:https://quaylesbrewery.ca/wp-content/uploads/2025/07/July_18-My_Missing_Piece-_5_to_8_pm.jpg
ORGANIZER;CN="Quayle's Brewery":MAILTO:info@quaylesbrewery.com
END:VEVENT
BEGIN:VEVENT
DTSTART;TZID=America/Toronto:20250719T170000
DTEND;TZID=America/Toronto:20250719T200000
DTSTAMP:20260420T194448
CREATED:20250715T042928Z
LAST-MODIFIED:20250715T042928Z
UID:10000219-1752944400-1752955200@quaylesbrewery.ca
SUMMARY:Summer Music Events: Kyle Wauchope
DESCRIPTION:Sat July 19\n5-8\nKyle Wauchope
URL:https://quaylesbrewery.ca/twzfxferj1zbaknspai3/summer-music-events-kyle-wauchope/
LOCATION:Quayle’s Brewery\, 4567 12 Line N\, Coldwater\, Ontario\, L0K 1E0\, Canada
CATEGORIES:@Quayle's,Music
ATTACH;FMTTYPE=image/jpeg:https://quaylesbrewery.ca/wp-content/uploads/2025/07/July_19-Kyle_Wauchope-_5_to_8_pm_1.jpg
ORGANIZER;CN="Quayle's Brewery":MAILTO:info@quaylesbrewery.com
END:VEVENT
BEGIN:VEVENT
DTSTART;TZID=America/Toronto:20250720T160000
DTEND;TZID=America/Toronto:20250720T190000
DTSTAMP:20260420T194448
CREATED:20250715T043041Z
LAST-MODIFIED:20250715T043041Z
UID:10000220-1753027200-1753038000@quaylesbrewery.ca
SUMMARY:Summer Music Events: Aussie Anton
DESCRIPTION:Sun July 20\n4-7\nAussie Anton
URL:https://quaylesbrewery.ca/twzfxferj1zbaknspai3/summer-music-events-aussie-anton/
LOCATION:Quayle’s Brewery\, 4567 12 Line N\, Coldwater\, Ontario\, L0K 1E0\, Canada
CATEGORIES:@Quayle's,Music
ATTACH;FMTTYPE=image/jpeg:https://quaylesbrewery.ca/wp-content/uploads/2025/07/July_20-Aussie_Anton_4_to_7_pm_1.jpg
ORGANIZER;CN="Quayle's Brewery":MAILTO:info@quaylesbrewery.com
END:VEVENT
BEGIN:VEVENT
DTSTART;TZID=America/Toronto:20250724T170000
DTEND;TZID=America/Toronto:20250724T200000
DTSTAMP:20260420T194448
CREATED:20250715T043155Z
LAST-MODIFIED:20250715T043155Z
UID:10000221-1753376400-1753387200@quaylesbrewery.ca
SUMMARY:Summer Music Events: Steph Dunn
DESCRIPTION:Thu July 24\n5-8\nSteph Dunn
URL:https://quaylesbrewery.ca/twzfxferj1zbaknspai3/summer-music-events-steph-dunn/
LOCATION:Quayle’s Brewery\, 4567 12 Line N\, Coldwater\, Ontario\, L0K 1E0\, Canada
CATEGORIES:@Quayle's,Music
ATTACH;FMTTYPE=image/jpeg:https://quaylesbrewery.ca/wp-content/uploads/2025/07/July_24-Steph_Dunn-_5_to_8_pm.jpg
ORGANIZER;CN="Quayle's Brewery":MAILTO:info@quaylesbrewery.com
END:VEVENT
BEGIN:VEVENT
DTSTART;TZID=America/Toronto:20250725T170000
DTEND;TZID=America/Toronto:20250725T200000
DTSTAMP:20260420T194448
CREATED:20250715T043258Z
LAST-MODIFIED:20250715T043258Z
UID:10000222-1753462800-1753473600@quaylesbrewery.ca
SUMMARY:Summer Music Events: Chris Staig
DESCRIPTION:Fri July 25\n5-8\nChris Staig
URL:https://quaylesbrewery.ca/twzfxferj1zbaknspai3/summer-music-events-chris-staig/
LOCATION:Quayle’s Brewery\, 4567 12 Line N\, Coldwater\, Ontario\, L0K 1E0\, Canada
CATEGORIES:@Quayle's,Music
ATTACH;FMTTYPE=image/jpeg:https://quaylesbrewery.ca/wp-content/uploads/2025/07/July_25-Chris_Staig-_5_to_8_pm.jpg
ORGANIZER;CN="Quayle's Brewery":MAILTO:info@quaylesbrewery.com
END:VEVENT
BEGIN:VEVENT
DTSTART;TZID=America/Toronto:20250726T170000
DTEND;TZID=America/Toronto:20250726T200000
DTSTAMP:20260420T194448
CREATED:20250715T043411Z
LAST-MODIFIED:20250728T200836Z
UID:10000223-1753549200-1753560000@quaylesbrewery.ca
SUMMARY:Summer Music Events: Francesca Panetta
DESCRIPTION:Sat July 26\n5-8\nFrancesca Panetta\n\n\n\n 
URL:https://quaylesbrewery.ca/twzfxferj1zbaknspai3/summer-music-events-stephan-bernard/
LOCATION:Quayle’s Brewery\, 4567 12 Line N\, Coldwater\, Ontario\, L0K 1E0\, Canada
CATEGORIES:@Quayle's,Music
ATTACH;FMTTYPE=image/jpeg:https://quaylesbrewery.ca/wp-content/uploads/2025/07/July-26-Francesca-Panetta-5-to-8-pm.jpg
ORGANIZER;CN="Quayle's Brewery":MAILTO:info@quaylesbrewery.com
END:VEVENT
BEGIN:VEVENT
DTSTART;TZID=America/Toronto:20250727T160000
DTEND;TZID=America/Toronto:20250727T190000
DTSTAMP:20260420T194448
CREATED:20250715T043503Z
LAST-MODIFIED:20250715T043503Z
UID:10000224-1753632000-1753642800@quaylesbrewery.ca
SUMMARY:Summer Music Events: Vince Therrien
DESCRIPTION:Sun July 27\n4-7\nVince Therrien
URL:https://quaylesbrewery.ca/twzfxferj1zbaknspai3/summer-music-events-vince-therrien/
LOCATION:Quayle’s Brewery\, 4567 12 Line N\, Coldwater\, Ontario\, L0K 1E0\, Canada
CATEGORIES:@Quayle's,Music
ATTACH;FMTTYPE=image/jpeg:https://quaylesbrewery.ca/wp-content/uploads/2025/07/July_27-Vince_Therrien_4_to_7_pm_1.jpg
ORGANIZER;CN="Quayle's Brewery":MAILTO:info@quaylesbrewery.com
END:VEVENT
BEGIN:VEVENT
DTSTART;TZID=America/Toronto:20250731T170000
DTEND;TZID=America/Toronto:20250731T200000
DTSTAMP:20260420T194448
CREATED:20250715T043558Z
LAST-MODIFIED:20250715T043558Z
UID:10000225-1753981200-1753992000@quaylesbrewery.ca
SUMMARY:Summer Music Events: Corey Taylor
DESCRIPTION:Thu July 31\n5-8\nCorey Taylor\n\n\n\n 
URL:https://quaylesbrewery.ca/twzfxferj1zbaknspai3/summer-music-events-corey-taylor/
LOCATION:Quayle’s Brewery\, 4567 12 Line N\, Coldwater\, Ontario\, L0K 1E0\, Canada
CATEGORIES:@Quayle's,Music
ATTACH;FMTTYPE=image/jpeg:https://quaylesbrewery.ca/wp-content/uploads/2025/07/July_31-Corey_Taylor-5_to_8_pm.jpg
ORGANIZER;CN="Quayle's Brewery":MAILTO:info@quaylesbrewery.com
END:VEVENT
BEGIN:VEVENT
DTSTART;TZID=America/Toronto:20250801T170000
DTEND;TZID=America/Toronto:20250801T200000
DTSTAMP:20260420T194448
CREATED:20250715T044116Z
LAST-MODIFIED:20250715T044116Z
UID:10000226-1754067600-1754078400@quaylesbrewery.ca
SUMMARY:Summer Music Events: Andrew Walker
DESCRIPTION:Fri August 1\n5-8\nAndrew Walker
URL:https://quaylesbrewery.ca/twzfxferj1zbaknspai3/summer-music-events-andrew-walker/
LOCATION:Quayle’s Brewery\, 4567 12 Line N\, Coldwater\, Ontario\, L0K 1E0\, Canada
CATEGORIES:@Quayle's,Music
ATTACH;FMTTYPE=image/jpeg:https://quaylesbrewery.ca/wp-content/uploads/2025/07/Aug_1-Andrew_Walker-5_to_8_pm.jpg
ORGANIZER;CN="Quayle's Brewery":MAILTO:info@quaylesbrewery.com
END:VEVENT
BEGIN:VEVENT
DTSTART;TZID=America/Toronto:20250802T130000
DTEND;TZID=America/Toronto:20250802T160000
DTSTAMP:20260420T194448
CREATED:20250715T044352Z
LAST-MODIFIED:20250715T044352Z
UID:10000227-1754139600-1754150400@quaylesbrewery.ca
SUMMARY:Summer Music Events: Jess Bowman
DESCRIPTION:Sat August 2\n1-4\nJess Bowman
URL:https://quaylesbrewery.ca/twzfxferj1zbaknspai3/summer-music-events-jess-bowman/
LOCATION:Quayle’s Brewery\, 4567 12 Line N\, Coldwater\, Ontario\, L0K 1E0\, Canada
CATEGORIES:@Quayle's,Music
ATTACH;FMTTYPE=image/jpeg:https://quaylesbrewery.ca/wp-content/uploads/2025/07/Aug_2_2025-Jess_Bowman-_1-4_pm.jpg
ORGANIZER;CN="Quayle's Brewery":MAILTO:info@quaylesbrewery.com
END:VEVENT
BEGIN:VEVENT
DTSTART;TZID=America/Toronto:20250802T170000
DTEND;TZID=America/Toronto:20250802T200000
DTSTAMP:20260420T194448
CREATED:20250715T044502Z
LAST-MODIFIED:20250715T044502Z
UID:10000228-1754154000-1754164800@quaylesbrewery.ca
SUMMARY:Summer Music Events: Kat Chabot
DESCRIPTION:Sat August 2\n5-8\nKat Chabot
URL:https://quaylesbrewery.ca/twzfxferj1zbaknspai3/summer-music-events-kat-chabot/
LOCATION:Quayle’s Brewery\, 4567 12 Line N\, Coldwater\, Ontario\, L0K 1E0\, Canada
CATEGORIES:@Quayle's,Music
ATTACH;FMTTYPE=image/jpeg:https://quaylesbrewery.ca/wp-content/uploads/2025/07/Aug_2_2025-Kat_Chabot-__5-8__pm.jpg
ORGANIZER;CN="Quayle's Brewery":MAILTO:info@quaylesbrewery.com
END:VEVENT
BEGIN:VEVENT
DTSTART;TZID=America/Toronto:20250803T130000
DTEND;TZID=America/Toronto:20250803T160000
DTSTAMP:20260420T194448
CREATED:20250715T044754Z
LAST-MODIFIED:20250715T044754Z
UID:10000229-1754226000-1754236800@quaylesbrewery.ca
SUMMARY:Summer Music Events: Kyle McAdams
DESCRIPTION:Sun August 3\n1-4\nKyle McAdams
URL:https://quaylesbrewery.ca/twzfxferj1zbaknspai3/summer-music-events-kyle-mcadams/
LOCATION:Quayle’s Brewery\, 4567 12 Line N\, Coldwater\, Ontario\, L0K 1E0\, Canada
CATEGORIES:@Quayle's,Music
ATTACH;FMTTYPE=image/jpeg:https://quaylesbrewery.ca/wp-content/uploads/2025/07/Aug_3-_Kyle_McAdams_1-4_pm.jpg
ORGANIZER;CN="Quayle's Brewery":MAILTO:info@quaylesbrewery.com
END:VEVENT
BEGIN:VEVENT
DTSTART;TZID=America/Toronto:20250803T170000
DTEND;TZID=America/Toronto:20250803T200000
DTSTAMP:20260420T194448
CREATED:20250715T044853Z
LAST-MODIFIED:20250715T044853Z
UID:10000230-1754240400-1754251200@quaylesbrewery.ca
SUMMARY:Summer Music Events: Ron Whitman
DESCRIPTION:Sun August 3\n5-8\nRon Whitman
URL:https://quaylesbrewery.ca/twzfxferj1zbaknspai3/summer-music-events-ron-whitman/
LOCATION:Quayle’s Brewery\, 4567 12 Line N\, Coldwater\, Ontario\, L0K 1E0\, Canada
CATEGORIES:@Quayle's,Music
ATTACH;FMTTYPE=image/jpeg:https://quaylesbrewery.ca/wp-content/uploads/2025/07/Aug_3-Ron_Whitman_5-8_pm.jpg
ORGANIZER;CN="Quayle's Brewery":MAILTO:info@quaylesbrewery.com
END:VEVENT
BEGIN:VEVENT
DTSTART;TZID=America/Toronto:20250804T160000
DTEND;TZID=America/Toronto:20250804T190000
DTSTAMP:20260420T194448
CREATED:20250715T045005Z
LAST-MODIFIED:20250715T045005Z
UID:10000231-1754323200-1754334000@quaylesbrewery.ca
SUMMARY:Summer Music Events: Johnny Toonice
DESCRIPTION:Mon August 4\n4-7\nJohnny Toonice
URL:https://quaylesbrewery.ca/twzfxferj1zbaknspai3/summer-music-events-johnny-toonice/
LOCATION:Quayle’s Brewery\, 4567 12 Line N\, Coldwater\, Ontario\, L0K 1E0\, Canada
CATEGORIES:@Quayle's,Music
ATTACH;FMTTYPE=image/jpeg:https://quaylesbrewery.ca/wp-content/uploads/2025/07/Aug_4-Johnny_Toonice-_4-7_pm.jpg
ORGANIZER;CN="Quayle's Brewery":MAILTO:info@quaylesbrewery.com
END:VEVENT
BEGIN:VEVENT
DTSTART;TZID=America/Toronto:20250808T170000
DTEND;TZID=America/Toronto:20250808T200000
DTSTAMP:20260420T194448
CREATED:20250715T054416Z
LAST-MODIFIED:20250715T054416Z
UID:10000232-1754672400-1754683200@quaylesbrewery.ca
SUMMARY:Summer Music Events: Jakob Pearce
DESCRIPTION:Fri August 8\n5-8\nJakob Pearce
URL:https://quaylesbrewery.ca/twzfxferj1zbaknspai3/summer-music-events-jakob-pearce-2/
LOCATION:Quayle’s Brewery\, 4567 12 Line N\, Coldwater\, Ontario\, L0K 1E0\, Canada
CATEGORIES:@Quayle's,Music
ATTACH;FMTTYPE=image/jpeg:https://quaylesbrewery.ca/wp-content/uploads/2025/07/Aug-8-Jakob-Pearce-5-to-8-pm.jpg
ORGANIZER;CN="Quayle's Brewery":MAILTO:info@quaylesbrewery.com
END:VEVENT
BEGIN:VEVENT
DTSTART;TZID=America/Toronto:20250809T170000
DTEND;TZID=America/Toronto:20250809T200000
DTSTAMP:20260420T194448
CREATED:20250715T054519Z
LAST-MODIFIED:20250715T054519Z
UID:10000233-1754758800-1754769600@quaylesbrewery.ca
SUMMARY:Summer Music Events: Giant's Tomb
DESCRIPTION:Sat August 9\n5-8\nGiant’s Tomb
URL:https://quaylesbrewery.ca/twzfxferj1zbaknspai3/summer-music-events-giants-tomb/
LOCATION:Quayle’s Brewery\, 4567 12 Line N\, Coldwater\, Ontario\, L0K 1E0\, Canada
CATEGORIES:@Quayle's,Music
ATTACH;FMTTYPE=image/jpeg:https://quaylesbrewery.ca/wp-content/uploads/2025/07/Aug-9-Giants-Tomb-5-to-8-pm.jpg
ORGANIZER;CN="Quayle's Brewery":MAILTO:info@quaylesbrewery.com
END:VEVENT
BEGIN:VEVENT
DTSTART;TZID=America/Toronto:20250810T160000
DTEND;TZID=America/Toronto:20250810T190000
DTSTAMP:20260420T194448
CREATED:20250715T060956Z
LAST-MODIFIED:20250715T061100Z
UID:10000234-1754841600-1754852400@quaylesbrewery.ca
SUMMARY:Summer Music Events: Darcy Windover
DESCRIPTION:Sun August 10\n4-7\nDarcy Windover
URL:https://quaylesbrewery.ca/twzfxferj1zbaknspai3/summer-music-events-darcy-windover/
LOCATION:Quayle’s Brewery\, 4567 12 Line N\, Coldwater\, Ontario\, L0K 1E0\, Canada
CATEGORIES:@Quayle's,Music
ATTACH;FMTTYPE=image/jpeg:https://quaylesbrewery.ca/wp-content/uploads/2025/07/Aug-10-Darcy-Windover-4-to-7-pm.jpg
ORGANIZER;CN="Quayle's Brewery":MAILTO:info@quaylesbrewery.com
END:VEVENT
END:VCALENDAR