BEGIN:VCALENDAR
VERSION:2.0
PRODID:-//Quayle&#039;s Brewery - ECPv6.15.20//NONSGML v1.0//EN
CALSCALE:GREGORIAN
METHOD:PUBLISH
X-ORIGINAL-URL:https://quaylesbrewery.ca
X-WR-CALDESC:Events for Quayle&#039;s Brewery
REFRESH-INTERVAL;VALUE=DURATION:PT1H
X-Robots-Tag:noindex
X-PUBLISHED-TTL:PT1H
BEGIN:VTIMEZONE
TZID:America/Toronto
BEGIN:DAYLIGHT
TZOFFSETFROM:-0500
TZOFFSETTO:-0400
TZNAME:EDT
DTSTART:20230312T070000
END:DAYLIGHT
BEGIN:STANDARD
TZOFFSETFROM:-0400
TZOFFSETTO:-0500
TZNAME:EST
DTSTART:20231105T060000
END:STANDARD
BEGIN:DAYLIGHT
TZOFFSETFROM:-0500
TZOFFSETTO:-0400
TZNAME:EDT
DTSTART:20240310T070000
END:DAYLIGHT
BEGIN:STANDARD
TZOFFSETFROM:-0400
TZOFFSETTO:-0500
TZNAME:EST
DTSTART:20241103T060000
END:STANDARD
BEGIN:DAYLIGHT
TZOFFSETFROM:-0500
TZOFFSETTO:-0400
TZNAME:EDT
DTSTART:20250309T070000
END:DAYLIGHT
BEGIN:STANDARD
TZOFFSETFROM:-0400
TZOFFSETTO:-0500
TZNAME:EST
DTSTART:20251102T060000
END:STANDARD
END:VTIMEZONE
BEGIN:VEVENT
DTSTART;TZID=America/Toronto:20240630T140000
DTEND;TZID=America/Toronto:20240630T150000
DTSTAMP:20260421T233103
CREATED:20240629T142541Z
LAST-MODIFIED:20240629T142541Z
UID:10000022-1719756000-1719759600@quaylesbrewery.ca
SUMMARY:Hop Tours
DESCRIPTION:Hop Tours (June 30 and July 1 at 2pm and 4pm) – Looking for something fun to do on Canada Day Weekend? Join us at Quayle’s Brewery for an exciting hop and brewery tour\, capped off with a delightful beer tasting featuring four distinct styles. Spaces for this experience are limited\, so make sure you don’t miss out on the chance to explore our brewery\, learn about hops\, and enjoy some of our finest craft beers. Book your spot now and celebrate Canada Day with us in style! \n 
URL:https://quaylesbrewery.ca/twzfxferj1zbaknspai3/hop-tours/
CATEGORIES:Tours
ATTACH;FMTTYPE=image/jpeg:https://quaylesbrewery.ca/wp-content/uploads/2024/06/Hop-tour_1920x1080.jpg
ORGANIZER;CN="Quayle's Brewery":MAILTO:info@quaylesbrewery.com
END:VEVENT
BEGIN:VEVENT
DTSTART;TZID=America/Toronto:20240630T160000
DTEND;TZID=America/Toronto:20240630T170000
DTSTAMP:20260421T233103
CREATED:20240629T142833Z
LAST-MODIFIED:20240629T142833Z
UID:10000023-1719763200-1719766800@quaylesbrewery.ca
SUMMARY:Hop Tours
DESCRIPTION:Hop Tours (June 30 and July 1 at 2pm and 4pm) – Looking for something fun to do on Canada Day Weekend? Join us at Quayle’s Brewery for an exciting hop and brewery tour\, capped off with a delightful beer tasting featuring four distinct styles. Spaces for this experience are limited\, so make sure you don’t miss out on the chance to explore our brewery\, learn about hops\, and enjoy some of our finest craft beers. Book your spot now and celebrate Canada Day with us in style! \n 
URL:https://quaylesbrewery.ca/twzfxferj1zbaknspai3/hop-tours-2/
CATEGORIES:Tours
ATTACH;FMTTYPE=image/jpeg:https://quaylesbrewery.ca/wp-content/uploads/2024/06/Hop-tour_1920x1080.jpg
ORGANIZER;CN="Quayle's Brewery":MAILTO:info@quaylesbrewery.com
END:VEVENT
END:VCALENDAR