BEGIN:VCALENDAR
VERSION:2.0
PRODID:-//Quayle&#039;s Brewery - ECPv6.15.20//NONSGML v1.0//EN
CALSCALE:GREGORIAN
METHOD:PUBLISH
X-WR-CALNAME:Quayle&#039;s Brewery
X-ORIGINAL-URL:https://quaylesbrewery.ca
X-WR-CALDESC:Events for Quayle&#039;s Brewery
REFRESH-INTERVAL;VALUE=DURATION:PT1H
X-Robots-Tag:noindex
X-PUBLISHED-TTL:PT1H
BEGIN:VTIMEZONE
TZID:America/Toronto
BEGIN:DAYLIGHT
TZOFFSETFROM:-0500
TZOFFSETTO:-0400
TZNAME:EDT
DTSTART:20250309T070000
END:DAYLIGHT
BEGIN:STANDARD
TZOFFSETFROM:-0400
TZOFFSETTO:-0500
TZNAME:EST
DTSTART:20251102T060000
END:STANDARD
BEGIN:DAYLIGHT
TZOFFSETFROM:-0500
TZOFFSETTO:-0400
TZNAME:EDT
DTSTART:20260308T070000
END:DAYLIGHT
BEGIN:STANDARD
TZOFFSETFROM:-0400
TZOFFSETTO:-0500
TZNAME:EST
DTSTART:20261101T060000
END:STANDARD
BEGIN:DAYLIGHT
TZOFFSETFROM:-0500
TZOFFSETTO:-0400
TZNAME:EDT
DTSTART:20270314T070000
END:DAYLIGHT
BEGIN:STANDARD
TZOFFSETFROM:-0400
TZOFFSETTO:-0500
TZNAME:EST
DTSTART:20271107T060000
END:STANDARD
END:VTIMEZONE
BEGIN:VEVENT
DTSTART;TZID=America/Toronto:20260424T170000
DTEND;TZID=America/Toronto:20260424T210000
DTSTAMP:20260424T144015
CREATED:20260424T171327Z
LAST-MODIFIED:20260424T173428Z
UID:10000484-1777050000-1777064400@quaylesbrewery.ca
SUMMARY:Karaoke @ Quayle's Brewery
DESCRIPTION:Warm up those vocal cords and get ready to sing the night away at Quayle’s! \nJoin us for an unforgettable evening of big laughs\, great beers\, and delicious food in our cozy Loft. Whether you’re a shower singer\, a stage star\, or just here to cheer on your friends\, this is your night to shine. \nHosted by the one and only Aaron Kronis\, bringing energy\, humour\, and all the crowd-pleasing hits. \nCome for the music\, stay for the memories! \n📅 Friday\, April 24 \n🔞 Must be 19+ \n 
URL:https://quaylesbrewery.ca/twzfxferj1zbaknspai3/karaoke-quayles-brewery-2/
LOCATION:Quayle’s Brewery\, 4567 12 Line N\, Coldwater\, Ontario\, L0K 1E0\, Canada
CATEGORIES:@Quayle's,Karaoke
ATTACH;FMTTYPE=image/jpeg:https://quaylesbrewery.ca/wp-content/uploads/2026/04/Karaoke_April_24_2026_1200x675_px_1.jpg
ORGANIZER;CN="Quayle's Brewery":MAILTO:info@quaylesbrewery.com
END:VEVENT
BEGIN:VEVENT
DTSTART;TZID=America/Toronto:20260425T170000
DTEND;TZID=America/Toronto:20260425T200000
DTSTAMP:20260424T144015
CREATED:20260304T034906Z
LAST-MODIFIED:20260304T034906Z
UID:10000464-1777136400-1777147200@quaylesbrewery.ca
SUMMARY:Winter Music Events: Ian Chaplin
DESCRIPTION:Sat April 25\n5-8\nIan Chaplin
URL:https://quaylesbrewery.ca/twzfxferj1zbaknspai3/winter-music-events-ian-chaplin/
LOCATION:Quayle’s Brewery\, 4567 12 Line N\, Coldwater\, Ontario\, L0K 1E0\, Canada
CATEGORIES:@Quayle's,Music
ATTACH;FMTTYPE=image/jpeg:https://quaylesbrewery.ca/wp-content/uploads/2026/02/Apr_25-Ian_Chaplin-5-8_PM.jpg
ORGANIZER;CN="Quayle's Brewery":MAILTO:info@quaylesbrewery.com
END:VEVENT
BEGIN:VEVENT
DTSTART;TZID=America/Toronto:20260426T140000
DTEND;TZID=America/Toronto:20260426T170000
DTSTAMP:20260424T144015
CREATED:20260304T035007Z
LAST-MODIFIED:20260304T035007Z
UID:10000465-1777212000-1777222800@quaylesbrewery.ca
SUMMARY:Winter Music Events: Daniel Humphries
DESCRIPTION:Sun April 26\n2-5\nDaniel Humphries
URL:https://quaylesbrewery.ca/twzfxferj1zbaknspai3/winter-music-events-daniel-humphries/
LOCATION:Quayle’s Brewery\, 4567 12 Line N\, Coldwater\, Ontario\, L0K 1E0\, Canada
CATEGORIES:@Quayle's,Music
ATTACH;FMTTYPE=image/jpeg:https://quaylesbrewery.ca/wp-content/uploads/2026/02/Apr_26-Daniel_Humphries-2-5_PM.jpg
ORGANIZER;CN="Quayle's Brewery":MAILTO:info@quaylesbrewery.com
END:VEVENT
BEGIN:VEVENT
DTSTART;TZID=America/Toronto:20260430T170000
DTEND;TZID=America/Toronto:20260430T200000
DTSTAMP:20260424T144015
CREATED:20260304T035112Z
LAST-MODIFIED:20260304T035112Z
UID:10000466-1777568400-1777579200@quaylesbrewery.ca
SUMMARY:Winter Music Events: Charlie McKittrick
DESCRIPTION:Thu April 30\n5-8\nCharlie McKittrick
URL:https://quaylesbrewery.ca/twzfxferj1zbaknspai3/winter-music-events-charlie-mckittrick/
LOCATION:Quayle’s Brewery\, 4567 12 Line N\, Coldwater\, Ontario\, L0K 1E0\, Canada
CATEGORIES:@Quayle's,Music
ATTACH;FMTTYPE=image/jpeg:https://quaylesbrewery.ca/wp-content/uploads/2026/02/April_30-Charlie_McKittrick-5-8_PM.jpg
ORGANIZER;CN="Quayle's Brewery":MAILTO:info@quaylesbrewery.com
END:VEVENT
END:VCALENDAR